3.50861683416167
0
0
-3.50861683416222
557474.434309181
4802722.42102119
