3.42025622076569
0
0
-3.42025622076557
552477.902831055
4807721.85585806
