3.33414519113242
0
0
-3.33414519113288
554982.842606052
4810222.58651349
