2.78924834153035
0
0
-2.78924834153073
547478.662477429
4825221.88608324
