2.66644342259668
0
0
-2.66644342259651
534986.044970735
4832717.67803331
