2.61707456049632
0
0
-2.61707456049608
534984.01809396
4827717.74696629
