2.58392993915375
0
0
-2.58392993915383
539982.647987682
4827719.01697313
