2.58394606563486
0
0
-2.58394606563485
537489.074101226
4827713.86490914
