2.86133244095957
0
0
-2.86133244095908
514992.176662331
4820201.12051389
