2.68465786584235
0
0
-2.68465786584197
527487.915590454
4830210.24855163
