2.86128065307243
0
0
-2.86128065307262
527481.964622806
4820215.39452384
