2.65066415630574
0
0
-2.65066415630574
524990.0657344
4827708.09093705
