2.97282932085343
0
0
-2.9728293208535
519990.350783533
4817708.63679909
