2.97282932085104
0
0
-2.9728293208513
522490.524782236
4817708.63679909
