3.08868799332842
0
0
-3.08868799332793
527485.344680708
4810212.88147475
