3.04959706434216
0
0
-3.04959706434209
522492.69339356
4815212.99874407
