3.12830976902983
0
0
-3.12830976902998
524987.658066899
4802714.93919404
