3.0886972366784
0
0
-3.08869723667798
519985.840515545
4812711.69040663
