3.08867877256239
0
0
-3.08867877256239
524989.624446045
4812717.85268822
