3.08870650273663
0
0
-3.08870650273651
527487.266588277
4807709.06569544
