3.08871579154427
0
0
-3.08871579154401
517490.11650032
4812714.7791317
