3.08868799332438
0
0
-3.08868799332484
524986.543296024
4810212.88524604
