1.53157792043354
0
0
-1.53157792043332
542483.078656238
4822719.49785182
