1.50353997362427
0
0
-1.50353997362401
517490.85122012
4830207.35416728
