1.51783402219465
0
0
-1.51783402219464
512492.969088507
4825206.2431655
