1.52378243288002
0
0
-1.52378243288
517492.091794522
4825209.77084569
