1.48824693559347
0
0
-1.48824693559367
514992.575000978
4827707.42403584
