1.49673372617704
0
0
-1.49673372617683
522490.453524076
4832712.07941168
