1.49458378491729
0
0
-1.49458378491708
512494.015293488
4822705.51665874
