1.49132240640378
0
0
-1.49132240640357
512495.06856953
4817705.4055035
