1.48360478264754
0
0
-1.48360478264754
512493.089023114
4817706.49104511
