1.52547630063365
0
0
-1.52547630063344
512494.280654533
4815206.44708145
