1.48986300254465
0
0
-1.48986300254479
512492.855695907
4815207.74235523
